BEGIN:VCALENDAR
VERSION:2.0
PRODID:-//West African Union University - ECPv6.0.2//NONSGML v1.0//EN
CALSCALE:GREGORIAN
METHOD:PUBLISH
X-ORIGINAL-URL:https://thewauu.com
X-WR-CALDESC:Events for West African Union University
REFRESH-INTERVAL;VALUE=DURATION:PT1H
X-Robots-Tag:noindex
X-PUBLISHED-TTL:PT1H
BEGIN:VTIMEZONE
TZID:UTC
BEGIN:STANDARD
TZOFFSETFROM:+0000
TZOFFSETTO:+0000
TZNAME:UTC
DTSTART:20170101T000000
END:STANDARD
END:VTIMEZONE
BEGIN:VEVENT
DTSTART;TZID=UTC:20240520T080000
DTEND;TZID=UTC:20240521T170000
DTSTAMP:20260420T101631
CREATED:20240524T173850Z
LAST-MODIFIED:20240524T174011Z
UID:13126-1716192000-1716310800@thewauu.com
SUMMARY:Wauu Staffs at the 2024 Registry workshop with the theme: Optimizing Digital Tools For Improved Productivity and Efficiency in Higher Education Instituionins
DESCRIPTION:https://thewauu.com/wp-content/uploads/2024/05/WhatsApp-Video-2024-05-21-at-03.37.23_a295fbcb.mp4\nThe staffs of the west African Union University(WAUU) attended the annual Federal University Of Technology Akure (FUTA) workshop\, Held at akure Ondo state. This event started on Monday 20th and ended Tuesday 21st May 2024. The theme of the event was ” Optimizing Digital Tools for Improved Productivity and Efficiency in Higher Education Institutions.
URL:https://thewauu.com/event/wauu-staffs/
LOCATION:Awolowo hall\, FUTA\, ondo\, Nigeria
END:VEVENT
BEGIN:VEVENT
DTSTART;TZID=UTC:20230519T220000
DTEND;TZID=UTC:20230924T160000
DTSTAMP:20260420T101631
CREATED:20230924T175025Z
LAST-MODIFIED:20230924T175025Z
UID:12957-1684533600-1695571200@thewauu.com
SUMMARY:THE WEST AFRICAN UNION UNIVESITY DINNER NIGHT (2.0)
DESCRIPTION:
URL:https://thewauu.com/event/the-west-african-union-univesity-dinner-night-2-0/
LOCATION:ondo
END:VEVENT
BEGIN:VEVENT
DTSTART;VALUE=DATE:20200122
DTEND;VALUE=DATE:20200123
DTSTAMP:20260420T101631
CREATED:20200122T213523Z
LAST-MODIFIED:20200122T213547Z
UID:11644-1579651200-1579737599@thewauu.com
SUMMARY:2019 convocation
DESCRIPTION:
URL:https://thewauu.com/event/2019-convocation/
LOCATION:ondo
END:VEVENT
BEGIN:VEVENT
DTSTART;VALUE=DATE:20191206
DTEND;VALUE=DATE:20210421
DTSTAMP:20260420T101631
CREATED:20171010T121113Z
LAST-MODIFIED:20171010T121113Z
UID:8603-1575590400-1618963199@thewauu.com
SUMMARY:Technology Conferences 2018
DESCRIPTION:Tellus eget condimentum rhoncus\nMaecenas tempus\, tellus eget condimentum rhoncus\, sem quam semper libero\, sit amet adipiscing sem neque sed ipsum. Nam quam nunc\, blandit vel\, luctus pulvinar\, hendrerit id\, lorem. Maecenas nec odio et ante tincidunt tempus. Donec vitae sapien ut libero venenatis faucibus. Nullam quis ante. \nEtiam sit amet orci eget eros faucibus tincidunt. Duis leo. Sed fringilla mauris sit amet nibh. Donec sodales sagittis magna. Sed consequat\, leo eget bibendum sodales\, augue velit cursus nunc\, quis gravida magna mi a libero. Fusce vulputate eleifend sapien. Vestibulum purus quam\, scelerisque ut\, mollis sed\, nonummy id\, metus. \n  \n \n  \nNullam accumsan lorem in dui. Cras ultricies mi eu turpis hendrerit fringilla. Vestibulum ante ipsum primis in faucibus orci luctus et ultrices posuere cubilia Curae; In ac dui quis mi consectetuer lacinia. Nam pretium turpis et arcu. Duis arcu tortor\, suscipit eget\, imperdiet nec\, imperdiet iaculis\, ipsum. Sed aliquam ultrices mauris. \n  \nNullam dictum felis eu pede mollis pretium. Integer tincidunt. Cras dapibus. Vivamus elementum semper nisi. Aenean vulputate eleifend tellus. Aenean leo ligula\, porttitor eu\, consequat vitae\, eleifend ac\, enim. Aliquam lorem ante\, dapibus in\, viverra quis\, feugiat a\, tellus. Phasellus viverra nulla ut metus varius laoreet. Quisque rutrum. Aenean imperdiet. Etiam ultricies nisi vel augue. Curabitur ullamcorper ultricies nisi. \n  \nNam eget dui. Etiam rhoncus. Maecenas tempus\, tellus eget condimentum rhoncus\, sem quam semper libero\, sit amet adipiscing sem neque sed ipsum. Nam quam nunc\, blandit vel\, luctus pulvinar\, hendrerit id\, lorem. Maecenas nec odio et ante tincidunt tempus. Donec vitae sapien ut libero venenatis faucibus. Nullam quis ante. Etiam sit amet orci eget eros faucibus tincidunt. Duis leo. Sed fringilla mauris sit amet nibh. \n  \n \n  \nInteger ante arcu\, accumsan a\, consectetuer eget\, posuere ut\, mauris. Praesent adipiscing. Phasellus ullamcorper ipsum rutrum nunc. Nunc nonummy metus. Vestibulum volutpat pretium libero. Cras id dui. Aenean ut eros et nisl sagittis vestibulum. Nullam nulla eros\, ultricies sit amet\, nonummy id\, imperdiet feugiat\, pede. Sed lectus.
URL:https://thewauu.com/event/technology-conferences-2017-2/
LOCATION:ondo
ATTACH;FMTTYPE=image/jpeg:https://thewauu.com/wp-content/uploads/2017/08/course-5-1.jpg
END:VEVENT
BEGIN:VEVENT
DTSTART;VALUE=DATE:20191113
DTEND;VALUE=DATE:20210207
DTSTAMP:20260420T101631
CREATED:20171016T041854Z
LAST-MODIFIED:20200122T215753Z
UID:8606-1573603200-1612655999@thewauu.com
SUMMARY:2019 Convocation Program Pictures
DESCRIPTION:
URL:https://thewauu.com/event/developer-conference-amsterdam/
LOCATION:ondo
CATEGORIES:CSS
ATTACH;FMTTYPE=image/jpeg:https://thewauu.com/wp-content/uploads/2017/10/CSS_developer_conf-1.jpg
END:VEVENT
BEGIN:VEVENT
DTSTART;VALUE=DATE:20191023
DTEND;VALUE=DATE:20210605
DTSTAMP:20260420T101631
CREATED:20171010T130702Z
LAST-MODIFIED:20171010T130702Z
UID:8956-1571788800-1622851199@thewauu.com
SUMMARY:Spring College Fair at Westwood High School
DESCRIPTION:Tellus eget condimentum rhoncus\nMaecenas tempus\, tellus eget condimentum rhoncus\, sem quam semper libero\, sit amet adipiscing sem neque sed ipsum. Nam quam nunc\, blandit vel\, luctus pulvinar\, hendrerit id\, lorem. Maecenas nec odio et ante tincidunt tempus. Donec vitae sapien ut libero venenatis faucibus. Nullam quis ante. \nEtiam sit amet orci eget eros faucibus tincidunt. Duis leo. Sed fringilla mauris sit amet nibh. Donec sodales sagittis magna. Sed consequat\, leo eget bibendum sodales\, augue velit cursus nunc\, quis gravida magna mi a libero. Fusce vulputate eleifend sapien. Vestibulum purus quam\, scelerisque ut\, mollis sed\, nonummy id\, metus. \n  \n \n  \nNullam accumsan lorem in dui. Cras ultricies mi eu turpis hendrerit fringilla. Vestibulum ante ipsum primis in faucibus orci luctus et ultrices posuere cubilia Curae; In ac dui quis mi consectetuer lacinia. Nam pretium turpis et arcu. Duis arcu tortor\, suscipit eget\, imperdiet nec\, imperdiet iaculis\, ipsum. Sed aliquam ultrices mauris. \nInteger ante arcu\, accumsan a\, consectetuer eget\, posuere ut\, mauris. Praesent adipiscing. Phasellus ullamcorper ipsum rutrum nunc. Nunc nonummy metus. Vestibulum volutpat pretium libero. Cras id dui. Aenean ut eros et nisl sagittis vestibulum. Nullam nulla eros\, ultricies sit amet\, nonummy id\, imperdiet feugiat\, pede. Sed lectus.
URL:https://thewauu.com/event/spring-college-fair-at-westwood-high-school-2-2/
LOCATION:ondo
ATTACH;FMTTYPE=image/jpeg:https://thewauu.com/wp-content/uploads/2017/08/course-3-1.jpg
END:VEVENT
BEGIN:VEVENT
DTSTART;TZID=UTC:20171014T080000
DTEND;TZID=UTC:20171231T170000
DTSTAMP:20260420T101631
CREATED:20171010T124805Z
LAST-MODIFIED:20171010T124805Z
UID:8604-1507968000-1514739600@thewauu.com
SUMMARY:Central Asia 2020: Challenges
DESCRIPTION:Donec vitae sapien ut libero venenatis faucibus\nMaecenas tempus\, tellus eget condimentum rhoncus\, sem quam semper libero\, sit amet adipiscing sem neque sed ipsum. Nam quam nunc\, blandit vel\, luctus pulvinar\, hendrerit id\, lorem. Maecenas nec odio et ante tincidunt tempus. Donec vitae sapien ut libero venenatis faucibus. Nullam quis ante. \n  \nEtiam sit amet orci eget eros faucibus tincidunt. Duis leo. Sed fringilla mauris sit amet nibh. Donec sodales sagittis magna. Sed consequat\, leo eget bibendum sodales\, augue velit cursus nunc\, quis gravida magna mi a libero. Fusce vulputate eleifend sapien. Vestibulum purus quam\, scelerisque ut\, mollis sed\, nonummy id\, metus. \n  \nNullam accumsan lorem in dui. Cras ultricies mi eu turpis hendrerit fringilla. Vestibulum ante ipsum primis in faucibus orci luctus et ultrices posuere cubilia Curae; In ac dui quis mi consectetuer lacinia. Nam pretium turpis et arcu. Duis arcu tortor\, suscipit eget\, imperdiet nec\, imperdiet iaculis\, ipsum. Sed aliquam ultrices mauris. \n  \n \n  \nInteger ante arcu\, accumsan a\, consectetuer eget\, posuere ut\, mauris. Praesent adipiscing. Phasellus ullamcorper ipsum rutrum nunc. Nunc nonummy metus. Vestibulum volutpat pretium libero. Cras id dui. Aenean ut eros et nisl sagittis vestibulum. Nullam nulla eros\, ultricies sit amet\, nonummy id\, imperdiet feugiat\, pede. Sed lectus. \nNullam dictum felis eu pede mollis pretium. Integer tincidunt. Cras dapibus. Vivamus elementum semper nisi. Aenean vulputate eleifend tellus. Aenean leo ligula\, porttitor eu\, consequat vitae\, eleifend ac\, enim. Aliquam lorem ante\, dapibus in\, viverra quis\, feugiat a\, tellus. Phasellus viverra nulla ut metus varius laoreet. Quisque rutrum. Aenean imperdiet. Etiam ultricies nisi vel augue. Curabitur ullamcorper ultricies nisi. \nDonec vitae sapien ut libero venenatis faucibus\n \n  \nNam eget dui. Etiam rhoncus. Maecenas tempus\, tellus eget condimentum rhoncus\, sem quam semper libero\, sit amet adipiscing sem neque sed ipsum. Nam quam nunc\, blandit vel\, luctus pulvinar\, hendrerit id\, lorem. Maecenas nec odio et ante tincidunt tempus. Donec vitae sapien ut libero venenatis faucibus. Nullam quis ante. Etiam sit amet orci eget eros faucibus tincidunt. Duis leo. Sed fringilla mauris sit amet nibh. \n  \nDonec sodales sagittis magna. Sed consequat\, leo eget bibendum sodales\, augue velit cursus nunc\, quis gravida magna mi a libero. Fusce vulputate eleifend sapien. Vestibulum purus quam\, scelerisque ut\, mollis sed\, nonummy id\, metus. Nullam accumsan lorem in dui. \n  \nCras ultricies mi eu turpis hendrerit fringilla. Vestibulum ante ipsum primis in faucibus orci luctus et ultrices posuere cubilia Curae; In ac dui quis mi consectetuer lacinia. Nam pretium turpis et arcu. Duis arcu tortor\, suscipit eget\, imperdiet nec\, imperdiet iaculis\, ipsum. Sed aliquam ultrices mauris. Integer ante arcu\, accumsan a\, consectetuer eget\, posuere ut\, mauris. Praesent adipiscing. Phasellus ullamcorper ipsum rutrum nunc. Nunc nonummy metus. Vestibulum volutpat pretium libero. Cras id dui. Aenean ut
URL:https://thewauu.com/event/central-asia-2020-challenges-2/
LOCATION:ondo
END:VEVENT
END:VCALENDAR